BEGIN:VCALENDAR
VERSION:2.0
CALSCALE:GREGORIAN
BEGIN:VEVENT
DTSTART;TZID=Europe/Berlin:20230504T170000
DTEND;TZID=Europe/Berlin:20230505T000000
SUMMARY:IHK Dresden\: Werkstattgespräch
DESCRIPTION:Innovative und nachhaltige Materialien - Kunststoffersatz neu gedacht!
END:VEVENT
END:VCALENDAR