BEGIN:VCALENDAR
VERSION:2.0
CALSCALE:GREGORIAN
BEGIN:VEVENT
DTSTART;TZID=Europe/Berlin:20230607T130000
DTEND;TZID=Europe/Berlin:20230608T000000
SUMMARY:Hochschulsportfest 2023
DESCRIPTION:Dieses Jahr holen wir noch den FSR N mit ins Boot und die DeZi-bar rüstet mit DJs und Bierwagen auch noch mal ordentlich für euch auf.
END:VEVENT
END:VCALENDAR