BEGIN:VCALENDAR
VERSION:2.0
CALSCALE:GREGORIAN
BEGIN:VEVENT
DTSTART;TZID=Europe/Berlin:20240412T090000
DTEND;TZID=Europe/Berlin:20240415T000000
SUMMARY:Hackathon für Pflege und Gesundheit
DESCRIPTION:Sei ein Teil des Wandels! -  Gestalte mit uns die Zukunft der Pflege und Gesundheitsbranche. 
END:VEVENT
END:VCALENDAR