BEGIN:VCALENDAR
VERSION:2.0
CALSCALE:GREGORIAN
BEGIN:VEVENT
DTSTART;TZID=Europe/Berlin:20241115T160000
DTEND;TZID=Europe/Berlin:20241116T000000
SUMMARY:Görlitzer Kinderakademie\: Mein Freund der Kieselstein – Vagabund durch Jahrmillionen
DESCRIPTION:
END:VEVENT
END:VCALENDAR