BEGIN:VCALENDAR
VERSION:2.0
CALSCALE:GREGORIAN
BEGIN:VEVENT
DTSTART;TZID=Europe/Berlin:20240301T160000
DTEND;TZID=Europe/Berlin:20240303T000000
SUMMARY:Görlitzer Kinderakademie\: Fliegende Kobolde der Nacht – Fledermausforschern auf der Spur
DESCRIPTION:Fliegende Kobolde der Nacht – Fledermausforschern auf der Spur. Dipl.-Biol. Christiane Schmidt\, Niesky
END:VEVENT
END:VCALENDAR