BEGIN:VCALENDAR
VERSION:2.0
CALSCALE:GREGORIAN
BEGIN:VEVENT
DTSTART;TZID=Europe/Berlin:20240412T160000
DTEND;TZID=Europe/Berlin:20240413T000000
SUMMARY:Görlitzer Kinderakademie\: Klappernde Schlangen\, bunte Barsche und Mini-Krokodile –  wie pflegt man exotische Tiere? 
DESCRIPTION:
END:VEVENT
END:VCALENDAR