BEGIN:VCALENDAR
VERSION:2.0
CALSCALE:GREGORIAN
BEGIN:VEVENT
DTSTART;TZID=Europe/Berlin:20240425T093000
DTEND;TZID=Europe/Berlin:20240426T000000
SUMMARY:Girls`Day an der HSZG ab Klasse 5
DESCRIPTION:Beim bundesweiten Girls`Day am 25. April 2024 können Schülerinnen in Mädchen-untypische Berufe reinschnuppern. Unser Programm für deinen Zukunftstag wird dich begeistern\: Komm vorbei und erlebe wie neue Technologien zum Natur- und Umweltschutz beitragen. Erlebe wie aktuelle Energiefragen von unseren Wissenschaftler*innen und Studierenden bearbeitet und gelöst werden.
END:VEVENT
END:VCALENDAR