BEGIN:VCALENDAR
VERSION:2.0
CALSCALE:GREGORIAN
BEGIN:VEVENT
DTSTART;TZID=Europe/Berlin:20220706T131500
DTEND;TZID=Europe/Berlin:20220710T000000
SUMMARY:Geschlechtergleichstellung umsetzen und Diversität leben
DESCRIPTION:Sitzung der Arbeitsstelle für Geschlechtergleichstellung\, Inklusion\, Frauen- und Diversitätsforschung (AGIFD)
END:VEVENT
END:VCALENDAR