BEGIN:VCALENDAR
VERSION:2.0
CALSCALE:GREGORIAN
BEGIN:VEVENT
DTSTART;TZID=Europe/Berlin:20230504T090000
DTEND;TZID=Europe/Berlin:20230505T000000
SUMMARY:Gendersensibilität in wissenschaftlicher Lehre
DESCRIPTION:Die Inhalte des Kurses richten sich an Lehrende\, die gendersensible Didaktik umfangreicher in Lehrinhalt und -praxis ihrer Verantaltungen integrieren wollen. 
END:VEVENT
END:VCALENDAR