BEGIN:VCALENDAR
VERSION:2.0
CALSCALE:GREGORIAN
BEGIN:VEVENT
DTSTART;TZID=Europe/Berlin:20230503T150000
DTEND;TZID=Europe/Berlin:20230503T000000
SUMMARY:Gamification in der Hochschullehre – Möglichkeiten und Grenzen von Lego Serious Play
DESCRIPTION:Dieser Online-Kurzworkshop zeigt Ihnen die Möglichkeiten und Herausforderungen von Gamification für die eigene Lehre\, insbesondere mit Lego Serious Play.
END:VEVENT
END:VCALENDAR