BEGIN:VCALENDAR
VERSION:2.0
CALSCALE:GREGORIAN
BEGIN:VEVENT
DTSTART;TZID=Europe/Berlin:20240321T130000
DTEND;TZID=Europe/Berlin:20240323T000000
SUMMARY:Forschungswerkstatt wissenschaftliche Weiterbildung
DESCRIPTION:11. Forschungswerkstatt wissenschaftliche Weiterbildung „Wissenschaftliche Weiterbildung und Strukturwandel“
END:VEVENT
END:VCALENDAR