BEGIN:VCALENDAR
VERSION:2.0
CALSCALE:GREGORIAN
BEGIN:VEVENT
DTSTART;TZID=Europe/Berlin:20231117T140000
DTEND;TZID=Europe/Berlin:20231118T000000
SUMMARY:Förderung des Erwerbs von Kompetenzen durch Planspiele
DESCRIPTION:Planspiele bieten nach der Swiss Austrian German Simulation and Gaming Association (SAGSAGA) praxisnahe Lernerfahrungen mit wirklichkeitsnaher Komplexität sowie Entscheidungs- und Handlungsspielräumen zur aktiven Förderung des Kompetenzerwerbs.
END:VEVENT
END:VCALENDAR