BEGIN:VCALENDAR
VERSION:2.0
CALSCALE:GREGORIAN
BEGIN:VEVENT
DTSTART;TZID=Europe/Berlin:20240427T110000
DTEND;TZID=Europe/Berlin:20240428T000000
SUMMARY:Europafest
DESCRIPTION:
END:VEVENT
END:VCALENDAR