BEGIN:VCALENDAR
VERSION:2.0
CALSCALE:GREGORIAN
BEGIN:VEVENT
DTSTART;TZID=Europe/Berlin:20260520T140000
DTEND;TZID=Europe/Berlin:20260521T000000
SUMMARY: Elektrotechnische Kolloquium &quot;EMV einfach erklärt\: Grundlagen und Relevanz&quot; 
DESCRIPTION:
END:VEVENT
END:VCALENDAR