BEGIN:VCALENDAR
VERSION:2.0
CALSCALE:GREGORIAN
BEGIN:VEVENT
DTSTART;TZID=Europe/Berlin:20240423T130000
DTEND;TZID=Europe/Berlin:20240424T000000
SUMMARY:Einführung in die Literaturrecherche und Recherchesprechstunden
DESCRIPTION:Neue Veranstaltungsreihe in der Hochschulbibliothek
END:VEVENT
END:VCALENDAR