BEGIN:VCALENDAR
VERSION:2.0
CALSCALE:GREGORIAN
BEGIN:VEVENT
DTSTART;TZID=Europe/Berlin:20240610T080000
DTEND;TZID=Europe/Berlin:20240611T000000
SUMMARY:Eine Frühschicht für mein Görlitz. Wissenschaftsland Sachsen mitgestalten
DESCRIPTION:Junge Menschen zwischen 13 und 27 engagieren sich eine Frühschicht lang für den Wissenschaftsstandort Görlitz.
END:VEVENT
END:VCALENDAR