BEGIN:VCALENDAR
VERSION:2.0
CALSCALE:GREGORIAN
BEGIN:VEVENT
DTSTART;TZID=Europe/Berlin:20241113T093000
DTEND;TZID=Europe/Berlin:20241114T000000
SUMMARY:Digital Workspace (für Lehrende)\: Potentiale von Digitalen Kompetenzen in der Lehre nutzen und fördern
DESCRIPTION:Wie sieht die Lehre von Morgen aus? Digitalkompetenz und speziell der Umgang mit KI werden unverzichtbar. Der Workspace gibt einen Einblick in die Thematik\, hilft bei der gezielten Auswahl Werkzeugen und zeigt Möglichkeiten zum Transfer.
END:VEVENT
END:VCALENDAR