BEGIN:VCALENDAR
VERSION:2.0
CALSCALE:GREGORIAN
BEGIN:VEVENT
DTSTART;TZID=Europe/Berlin:20241007T093000
DTEND;TZID=Europe/Berlin:20241022T000000
SUMMARY:(Selbstlern-) Digital Workspace (für Lehrende)\: E-Assessments konzipieren und integrieren\: Tipps und Tools für Lehrende
DESCRIPTION:E-Assessments dienen der Einschätzung des Wissensstands der Lernenden und ermöglichen Lehrenden eine entsprechende Auswahl von Lerninhalten\, die Festlegung von Schwerpunkten\, die Planung von Lernangeboten\, die Wahl von Methoden sowie die Bildung von Lerngruppen. Der Workspace gibt einen Einblick in die Thematik\, hilft bei der gezielten Auswahl Werkzeugen und zeigt Möglichkeiten zum Transfer.
END:VEVENT
END:VCALENDAR