BEGIN:VCALENDAR
VERSION:2.0
CALSCALE:GREGORIAN
BEGIN:VEVENT
DTSTART;TZID=Europe/Berlin:20240514T093000
DTEND;TZID=Europe/Berlin:20240515T000000
SUMMARY:Digital Workspace (für Lehrende)\: Die Lehre von morgen gestalten - mit KI (Teil2)
DESCRIPTION:Wie sieht die Lehre von Morgen aus? Future Skills wie Digitalkompetenz und speziell der Umgang mit KI werden unverzichtbar. Der Workspace gibt einen Einblick in die Thematik\, hilft bei der gezielten Auswahl Werkzeugen und zeigt Möglichkeiten zum Transfer.
END:VEVENT
END:VCALENDAR