BEGIN:VCALENDAR
VERSION:2.0
CALSCALE:GREGORIAN
BEGIN:VEVENT
DTSTART;TZID=Europe/Berlin:20230513T100000
DTEND;TZID=Europe/Berlin:20230515T000000
SUMMARY:Die HSZG präsentiert ihr breites Angebot auf der KONVENT&#039;A in Löbau
DESCRIPTION:Hochschulsport zum Mitmachen\: Entdecken Sie das vielfältige Angebot der HSZG
END:VEVENT
END:VCALENDAR