BEGIN:VCALENDAR
VERSION:2.0
CALSCALE:GREGORIAN
BEGIN:VEVENT
DTSTART;TZID=Europe/Berlin:20241126T180000
DTEND;TZID=Europe/Berlin:20241127T000000
SUMMARY:WIRD VERSCHOBEN! Die Dimensionen der Pflege als Wissenschaft\: Rassismus in der Pflege 
DESCRIPTION:öffentliche-hybride Ringvorlesung
END:VEVENT
END:VCALENDAR