BEGIN:VCALENDAR
VERSION:2.0
CALSCALE:GREGORIAN
BEGIN:VEVENT
DTSTART;TZID=Europe/Berlin:20250114T180000
DTEND;TZID=Europe/Berlin:20250115T000000
SUMMARY:Die Dimensionen der Pflege als Wissenschaft\: Assistenttechnologien in der Häuslichkeit
DESCRIPTION:öffentliche-hybride Ringvorlesung
END:VEVENT
END:VCALENDAR