BEGIN:VCALENDAR
VERSION:2.0
CALSCALE:GREGORIAN
BEGIN:VEVENT
DTSTART;TZID=Europe/Berlin:20230614T161500
DTEND;TZID=Europe/Berlin:20230615T000000
SUMMARY:SeniorenKolleg Zittau\: Migration und Kultursensibilität\: Vom alltäglichen Rassismus und der Schwierigkeit\, nicht betroffen zu sein
DESCRIPTION:Migration und Kultursensibilität\: Vom alltäglichen Rassismus und der Schwierigkeit\, nicht betroffen zu sein. Monique Ritter\, M.A.\, Dr. des.\, Projekt »Gender-/Diversitätsforschung«\, TRAWOS-Institut\, HSZG. Peter-Dierich-Haus\, Hörsaal ZIV/0.02
END:VEVENT
END:VCALENDAR