BEGIN:VCALENDAR
VERSION:2.0
CALSCALE:GREGORIAN
BEGIN:VEVENT
DTSTART;TZID=Europe/Berlin:20241029T093000
DTEND;TZID=Europe/Berlin:20241030T000000
SUMMARY:Spot on Science and Education – Überzeugen durch Präsenz und Authentizität in der Lehre vor der Kamera
DESCRIPTION:
END:VEVENT
END:VCALENDAR