BEGIN:VCALENDAR
VERSION:2.0
CALSCALE:GREGORIAN
BEGIN:VEVENT
DTSTART;TZID=Europe/Berlin:20230607T161500
DTEND;TZID=Europe/Berlin:20230608T000000
SUMMARY:SeniorenKolleg Görlitz\: Gastbeitrag zum dies academicus und zur Internationalen Woche
DESCRIPTION:Gastbeitrag zum dies academicus und zur Internationalen Woche (wird aktuell bekannt gegeben). In Zusammenarbeit mit Lehrenden und Gastwissenschaftlern an der Fakultät Management- und Kulturwissenschaften und dem Studium fundamentale. Hermann-Heitkamp-Haus\, Hörsaal G I / 1.01
END:VEVENT
END:VCALENDAR