BEGIN:VCALENDAR
VERSION:2.0
CALSCALE:GREGORIAN
BEGIN:VEVENT
DTSTART;TZID=Europe/Berlin:20230503T160000
DTEND;TZID=Europe/Berlin:20230504T000000
SUMMARY:SeniorenKolleg - Vor Ort in der Region\: Quantencomputing. Besser Rechnen mit Quantenressourcen
DESCRIPTION:Quantencomputing. Besser Rechnen mit Quantenressourcen. Prof. Dr.-Ing. Jörg Lässig\, Fakultät Elektrotechnik und Informatik\, HSZG. Veranstaltung im »E-Werk« Stadtwerke Weißwasser GmbH\, Str. des Friedens 13-19.
END:VEVENT
END:VCALENDAR