BEGIN:VCALENDAR
VERSION:2.0
CALSCALE:GREGORIAN
BEGIN:VEVENT
DTSTART;TZID=Europe/Berlin:20230510T161500
DTEND;TZID=Europe/Berlin:20230511T000000
SUMMARY:SeniorenKolleg Görlitz\: Frauen- und Mädchenbildung in der Oberlausitz 
DESCRIPTION:Frauen- und Mädchenbildung in der Oberlausitz. Dipl.-Ing. Kersten Kühne\, Olbersdorf. Hermann-Heitkamp-Haus\, Hörsaal G I / 1.01. Beitrag des Studium fundamentale/SeniorenKolleg zum Tag der Lehre (Standort Görlitz).
END:VEVENT
END:VCALENDAR