BEGIN:VCALENDAR
VERSION:2.0
CALSCALE:GREGORIAN
BEGIN:VEVENT
DTSTART;TZID=Europe/Berlin:20231211T170000
DTEND;TZID=Europe/Berlin:20231212T000000
SUMMARY:Chemie - Schauvorlesung
DESCRIPTION:&quot;Der Zittauer Campus-Cop - Hangover im Rektorat&quot;
END:VEVENT
END:VCALENDAR