BEGIN:VCALENDAR
VERSION:2.0
CALSCALE:GREGORIAN
BEGIN:VEVENT
DTSTART;TZID=Europe/Berlin:20241205T160000
DTEND;TZID=Europe/Berlin:20241206T000000
SUMMARY:CHEESE AND GLÜHWEIN\: New@HSZG meets Mandauhöfe
DESCRIPTION:Die „Cheese and Wine“ Winteredition – pünktlich vor der Adventszeit kehrt unser beliebtes After-Work-Event zurück\, natürlich mit heiß gemachtem Wein\, Käse und Pfefferkuchen. 
END:VEVENT
END:VCALENDAR