BEGIN:VCALENDAR
VERSION:2.0
CALSCALE:GREGORIAN
BEGIN:VEVENT
DTSTART;TZID=Europe/Berlin:20240425T093000
DTEND;TZID=Europe/Berlin:20240426T000000
SUMMARY:Boys`Day an der HSZG ab Klasse 5
DESCRIPTION:Beim bundesweiten Boys`Day am 25. April 2024 können Schüler in Jungen-untypische Berufe reinschnuppern. Unser Programm für deinen Zukunftstag wird dich begeistern\: Komm vorbei und entdecke die Heilkraft von Arzneipflanzen!
END:VEVENT
END:VCALENDAR