BEGIN:VCALENDAR
VERSION:2.0
CALSCALE:GREGORIAN
BEGIN:VEVENT
DTSTART;TZID=Europe/Berlin:20221122T170000
DTEND;TZID=Europe/Berlin:20221123T000000
SUMMARY:Beteiligungsworkshops für den Klimaschutz (Zittau)
DESCRIPTION:Das KlimaschutzTeam führt zwei Beteiligungsworkshops in Görlitz und Zittau durch. Alle Hochschulangehörigen sind herzlich eingeladen.
END:VEVENT
END:VCALENDAR