BEGIN:VCALENDAR
VERSION:2.0
CALSCALE:GREGORIAN
BEGIN:VEVENT
DTSTART;TZID=Europe/Berlin:20241122T114000
DTEND;TZID=Europe/Berlin:20241123T000000
SUMMARY:Austausch Digitale Lehre HSZG – Thema\: Ansätze zur Förderung von digitalen Kompetenzen bei Studierenden (Good Practice)
DESCRIPTION:In Zusammenarbeit mit dem Zentrum für eLearning (zfe) und dem im Prorektorat Bildung und Internationales angesiedelten Digitalisierungsprojekt D2C2 konnte ein Angebot etabliert werden\, in dem sich Lehrende der HSZG fakultätsübergreifend über ihre Erfahrungen zu digitaler Lehre austauschen\, um den Transfer von Best-Practice-Ansätzen zu fördern. Im Zentrum der regelmäßigen Online-Treffen steht bei jedem Termin ein 10-minütiger Input durch eine Lehrperson oder eine*n wissenschaftliche*n Mitarbeiter*in aus einem Projekt mit didaktischem Bezug. Die Teilnehmer*innen haben die Möglichkeit\, konkrete Fragen an die Inputgeber*innen zu stellen\, eigene Impulse einzubringen\, Anregungen für die eigene Lehre zu erhalten und miteinander zu diskutieren.
END:VEVENT
END:VCALENDAR