BEGIN:VCALENDAR
VERSION:2.0
CALSCALE:GREGORIAN
BEGIN:VEVENT
DTSTART;TZID=Europe/Berlin:20230414T114500
DTEND;TZID=Europe/Berlin:20230415T000000
SUMMARY:Austausch Digitale Lehre\: Digital Skills in der Hochschullehre
DESCRIPTION:
END:VEVENT
END:VCALENDAR