BEGIN:VCALENDAR
VERSION:2.0
CALSCALE:GREGORIAN
BEGIN:VEVENT
DTSTART;TZID=Europe/Berlin:20241101T080000
DTEND;TZID=Europe/Berlin:20241201T000000
SUMMARY:„Alles im Fluss!? Wasser in der Krise“
DESCRIPTION:Die Ausstellung an der HSZG!
END:VEVENT
END:VCALENDAR