BEGIN:VCALENDAR
VERSION:2.0
CALSCALE:GREGORIAN
BEGIN:VEVENT
DTSTART;TZID=Europe/Berlin:20221130T161500
DTEND;TZID=Europe/Berlin:20221201T000000
SUMMARY:Aktuelles aus der Informatik\: Digitale Sorglosigkeit - Über den Umgang mit unseren Daten
DESCRIPTION:
END:VEVENT
END:VCALENDAR