BEGIN:VCALENDAR
VERSION:2.0
CALSCALE:GREGORIAN
BEGIN:VEVENT
DTSTART;TZID=Europe/Berlin:20231108T140000
DTEND;TZID=Europe/Berlin:20231109T000000
SUMMARY:»Achtung\, aufgewacht!« – Studierende durch aktive Interaktion und Kommunikation in der Hochschullehre motivieren und fördern
DESCRIPTION:In diesem Workshop lernen die Teilnehmenden die Hochschulpyramide (Meyer-Ross/Franze) kennen\, die die Ansätze von Bloom und Biggs vereint und erfahren\, wie sie Aktivitäten und Feedback-Evaluationen entsprechend der gewählten Taxonomie planen können.
END:VEVENT
END:VCALENDAR