BEGIN:VCALENDAR
VERSION:2.0
CALSCALE:GREGORIAN
BEGIN:VEVENT
DTSTART;TZID=Europe/Berlin:20241128T084500
DTEND;TZID=Europe/Berlin:20241202T000000
SUMMARY:Abschlussworkshop &quot;Tire Wear in the Enviroment&quot;
DESCRIPTION:Abschlussveranstaltung des Nachwuchsforscherprojektes &quot;Effekte von Reifenabrieb&quot;
END:VEVENT
END:VCALENDAR