BEGIN:VCALENDAR
VERSION:2.0
CALSCALE:GREGORIAN
BEGIN:VEVENT
DTSTART;TZID=Europe/Berlin:20220608T084500
DTEND;TZID=Europe/Berlin:20220609T000000
SUMMARY:4. Workshop &quot;(Mirko)Plastik im Boden&quot;
DESCRIPTION:Workshop der Nachwuchsforscher zum Projekt &quot;Mikroplastik im Boden&quot;
END:VEVENT
END:VCALENDAR