BEGIN:VCALENDAR
VERSION:2.0
CALSCALE:GREGORIAN
BEGIN:VEVENT
DTSTART;TZID=Europe/Berlin:20220610T113000
DTEND;TZID=Europe/Berlin:20220611T000000
SUMMARY:30 Jahre HAW - Hochschulen für Angewandte Wissenschaften Sachsen feiern Jubiläum
DESCRIPTION:Die fünf sächsischen Hochschulen für Angewandte Wissenschaften blicken auf ihr 30-jähriges Bestehen zurück. Dem Festakt kann per Livestream gefolgt werden.
END:VEVENT
END:VCALENDAR