BEGIN:VCALENDAR
VERSION:2.0
CALSCALE:GREGORIAN
BEGIN:VEVENT
DTSTART;TZID=Europe/Berlin:20260422T180000
DTEND;TZID=Europe/Berlin:20260423T000000
SUMMARY:In der Nähe. Eine Utopie der Kleinstadt? 
DESCRIPTION:(Ostdeutsche) Kleinstädte zwischen Vergangenheit und Zukunft\: Simon Strauß im Gespräch 
END:VEVENT
END:VCALENDAR