BEGIN:VCALENDAR
VERSION:2.0
CALSCALE:GREGORIAN
BEGIN:VEVENT
DTSTART;TZID=Europe/Berlin:20260425T100000
DTEND;TZID=Europe/Berlin:20260426T000000
SUMMARY:Energieparty in Görlitz
DESCRIPTION:Entdecke Energieforschung zum anfassen.
END:VEVENT
END:VCALENDAR