BEGIN:VCALENDAR
VERSION:2.0
CALSCALE:GREGORIAN
BEGIN:VEVENT
DTSTART;TZID=Europe/Berlin:20240607T100000
DTEND;TZID=Europe/Berlin:20240608T000000
SUMMARY:Zittau Kinder Academy\: Full power - the energetic knowledge show!
DESCRIPTION:Special event for elementary school from Zittau and the surrounding area with the Physikanten!
END:VEVENT
END:VCALENDAR