BEGIN:VCALENDAR
VERSION:2.0
CALSCALE:GREGORIAN
BEGIN:VEVENT
DTSTART;TZID=Europe/Berlin:20230303T074900
DTEND;TZID=Europe/Berlin:20230303T074900
SUMMARY:Zittau Kinder Academy\: Glaciers\, sled dogs and the northern lights - about life in the Arctic
DESCRIPTION:Zittau Kinder Academy\: Glaciers\, Sled Dogs and Northern Lights - About Life in the Arctic\, Dipl.-Kulturw. Silke Piwko\, Museum für Völkerkunde Herrnhut. Peter-Dierich-Haus\, lecture hall 0.02
END:VEVENT
END:VCALENDAR