BEGIN:VCALENDAR
VERSION:2.0
CALSCALE:GREGORIAN
BEGIN:VEVENT
DTSTART;TZID=Europe/Berlin:20240923T130000
DTEND;TZID=Europe/Berlin:20240924T000000
SUMMARY:Workshop &quot;EIC Pathfinder&quot; - the road to success!
DESCRIPTION:Application consultation on the &quot;Horizon Europe&quot; call &quot;EIC Pathfinder&quot; in Zittau by ZEUSS and NKS Pathfinder
END:VEVENT
END:VCALENDAR