BEGIN:VCALENDAR
VERSION:2.0
CALSCALE:GREGORIAN
BEGIN:VEVENT
DTSTART;TZID=Europe/Berlin:20230512T140000
DTEND;TZID=Europe/Berlin:20230514T000000
SUMMARY:Change management workshop
DESCRIPTION:Accompany the change process of a company succession and learn how movement-oriented change processes can be successfully designed.
END:VEVENT
END:VCALENDAR