BEGIN:VCALENDAR
VERSION:2.0
CALSCALE:GREGORIAN
BEGIN:VEVENT
DTSTART;TZID=Europe/Berlin:20220129T150000
DTEND;TZID=Europe/Berlin:20220130T154500
SUMMARY:What do Kristin\, Joshua\, Ali\, Tuyet and all the others believe in when they pray?
DESCRIPTION:Kinder Academy Zittau
END:VEVENT
END:VCALENDAR