BEGIN:VCALENDAR
VERSION:2.0
CALSCALE:GREGORIAN
BEGIN:VEVENT
DTSTART;TZID=Europe/Berlin:20221123T190000
DTEND;TZID=Europe/Berlin:20221124T000000
SUMMARY:Knowledge makes you blue!
DESCRIPTION:There will be a new &quot;Wissen macht Blau!&quot; at Emil (Mandauer Berg 13\, 02763 Zittau).
END:VEVENT
END:VCALENDAR