BEGIN:VCALENDAR
VERSION:2.0
CALSCALE:GREGORIAN
BEGIN:VEVENT
DTSTART;TZID=Europe/Berlin:20231103T123000
DTEND;TZID=Europe/Berlin:20231104T000000
SUMMARY:How can we master the digital transformation?
DESCRIPTION:News from neuroscience\, physics and information theory - a call for human empowerment.
END:VEVENT
END:VCALENDAR