BEGIN:VCALENDAR
VERSION:2.0
CALSCALE:GREGORIAN
BEGIN:VEVENT
DTSTART;TZID=Europe/Berlin:20230920T190000
DTEND;TZID=Europe/Berlin:20230921T000000
SUMMARY:Workshop talk with the film producer and dramaturge Raoul Reinert
DESCRIPTION:Film\: The big dream - D 2011
END:VEVENT
END:VCALENDAR