BEGIN:VCALENDAR
VERSION:2.0
CALSCALE:GREGORIAN
BEGIN:VEVENT
DTSTART;TZID=Europe/Berlin:20240913T093000
DTEND;TZID=Europe/Berlin:20240914T000000
SUMMARY:From work planning to collaboration\: &quot;How digital technologies and AI can support professional care in rural areas&quot;
DESCRIPTION:Together with the Federal Institute for Occupational Safety and Health (BAuA) as initiator and the European Agency for Safety and Health at Work (EU-OSHA) as funding body\, the GAT Institute invites you to a workshop on September 13\, 2024 at the University of Applied Sciences Zittau/Görlitz\, Campus Görlitz.
END:VEVENT
END:VCALENDAR